BEGIN:VCALENDAR
PRODID:-//AT Content Types//AT Event//EN
VERSION:1.0
BEGIN:VEVENT
DTSTART:20160710T150000Z
DTEND:20160710T170000Z
DCREATED:20160514T093828Z
UID:ATEvent-cd108c4fc70747d08a74e72fed0d9488
SEQUENCE:0
LAST-MODIFIED:20160514T094138Z
SUMMARY:Fleurs musicales de Pontorson
DESCRIPTION:Programme des concerts 2016 sur le thème du pèlerinage
LOCATION:église Notre Dame de Pontorson
PRIORITY:3
TRANSP:0
END:VEVENT
END:VCALENDAR
